BEGIN:VCALENDAR
VERSION:2.0
PRODID:-//Het Zwanennest - ECPv6.15.20//NONSGML v1.0//EN
CALSCALE:GREGORIAN
METHOD:PUBLISH
X-ORIGINAL-URL:https://hetzwanennest.com
X-WR-CALDESC:Evenementen voor Het Zwanennest
REFRESH-INTERVAL;VALUE=DURATION:PT1H
X-Robots-Tag:noindex
X-PUBLISHED-TTL:PT1H
BEGIN:VTIMEZONE
TZID:Europe/Amsterdam
BEGIN:DAYLIGHT
TZOFFSETFROM:+0100
TZOFFSETTO:+0200
TZNAME:CEST
DTSTART:20230326T010000
END:DAYLIGHT
BEGIN:STANDARD
TZOFFSETFROM:+0200
TZOFFSETTO:+0100
TZNAME:CET
DTSTART:20231029T010000
END:STANDARD
BEGIN:DAYLIGHT
TZOFFSETFROM:+0100
TZOFFSETTO:+0200
TZNAME:CEST
DTSTART:20240331T010000
END:DAYLIGHT
BEGIN:STANDARD
TZOFFSETFROM:+0200
TZOFFSETTO:+0100
TZNAME:CET
DTSTART:20241027T010000
END:STANDARD
BEGIN:DAYLIGHT
TZOFFSETFROM:+0100
TZOFFSETTO:+0200
TZNAME:CEST
DTSTART:20250330T010000
END:DAYLIGHT
BEGIN:STANDARD
TZOFFSETFROM:+0200
TZOFFSETTO:+0100
TZNAME:CET
DTSTART:20251026T010000
END:STANDARD
BEGIN:DAYLIGHT
TZOFFSETFROM:+0100
TZOFFSETTO:+0200
TZNAME:CEST
DTSTART:20260329T010000
END:DAYLIGHT
BEGIN:STANDARD
TZOFFSETFROM:+0200
TZOFFSETTO:+0100
TZNAME:CET
DTSTART:20261025T010000
END:STANDARD
BEGIN:DAYLIGHT
TZOFFSETFROM:+0100
TZOFFSETTO:+0200
TZNAME:CEST
DTSTART:20270328T010000
END:DAYLIGHT
BEGIN:STANDARD
TZOFFSETFROM:+0200
TZOFFSETTO:+0100
TZNAME:CET
DTSTART:20271031T010000
END:STANDARD
END:VTIMEZONE
BEGIN:VEVENT
DTSTART;TZID=Europe/Amsterdam:20240923T200000
DTEND;TZID=Europe/Amsterdam:20260825T203000
DTSTAMP:20260426T003515
CREATED:20240903T151218Z
LAST-MODIFIED:20250916T090825Z
UID:603-1727121600-1787689800@hetzwanennest.com
SUMMARY:Every Monday Celtic Gutha (mantra) – online (English)
DESCRIPTION:I am inviting you to travel with me on the ancient sounds of the Celtic Gutha (= mantras). In the online zoom circle we will together explore and experience the healing qualities of the sounds our ancestors were singing long before us. The Gutha are heart opening and a way to re-connect with your soul. The word Gutha can be translated as Breath of Life and will time and again lead you back to your inner wisdom. \nEvery Monday evening 7 – 7.30 pm UK time = 20.00 – 20.30 NL time. \nThere are no costs involved\, although donations are gratefullly received (click here for info). No singing experience needed. You are very welcome to join us or to come and listen to find out if this speaks to your heart. \nPlease send me an email if you would like to come and join and I will send you the link for the zoom-room: welkom@hetzwannennest.com \nIk nodig je uit om samen met mij te reizen op de klanken van het Keltische lied en de helende werking van deze oude melodieën in jezelf te ervaren. Het Keltische lied\, in het Gaelic Gutha [koe-ga] genoemd\, opent je hart en verbindt je opnieuw met je ziel. De Gutha – te vertalen als “levensadem” (breath of Life) – zal je telkens opnieuw terugbrengen naar jezelf. \nIedere maandagavond van 20.00 – 20.30 uur. \nEr zijn geen kosten aan verbonden. Donaties worden in dank aanvaard (klik hier voor info).  Je hebt geen zangervaring nodig en je mag ook gewoon eens komen kijken en luisteren. Kijk hier voor meer informatie. Stuur mij een bericht als je mee wilt doen\, dan ontvang je de link voor de zoom-room: welkom@hetzwannennest.com \n 
URL:https://hetzwanennest.com/event/iedere-maandag-keltische-gutha-mantra-online-2/
CATEGORIES:Bewust Leven,Het Helende Lied,Keltische Mantra,Online zingen,Spiritual teachings,Zingen
ATTACH;FMTTYPE=image/jpeg:https://hetzwanennest.com/wp-content/uploads/2023/01/Keltisch-Kruis-scaled.jpg
END:VEVENT
BEGIN:VEVENT
DTSTART;TZID=Europe/Amsterdam:20251216T080000
DTEND;TZID=Europe/Amsterdam:20260106T170000
DTSTAMP:20260426T003515
CREATED:20251209T101847Z
LAST-MODIFIED:20251209T102501Z
UID:675-1765872000-1767718800@hetzwanennest.com
SUMMARY:13 Heilige Nachten - reis mee het oude jaar uit en het nieuwe jaar in
DESCRIPTION:Ben jij geïnteresseerd in sjamanisme\, oude tradities en rituelen? Vind je het leuk om kennis te maken met mij en mijn werk? Dan ben je van harte welkom om samen met mij dit jaar uit te reizen en bewust het nieuwe jaar in te gaan.\n\nWat gaan we doen?\n– In de donkerste nachten blikken we terug en sluiten we het oude jaar bewust af\, zodat we met een schone lei kunnen beginnen.\n– Vervolgens werpen we alvast een blik in het nieuwe jaar. Wat staat ons te wachten. Geef je leven bewust vorm In plaats van dat het je overkomt.\n\nIn een “stille” whatsapp groep geef ik je achtergrondinformatie\, opdrachten en reik ik je ideeën aan. Je kiest zelf hoe je er invulling aan geeft. Er is geen goede of foute manier\, je hebt de vrijheid om er op je eigen wijze invulling aan te geven.\n\nIk laat me leiden door het sjamanisme – dat voor mij gelijk staat aan de verbinding met de natuur – en het Keltisch Bewustzijn en hoop jou daarmee te inspireren op jouw pad.\n\nWe bevinden ons nu in de 13 donkerste nachten en de afronding van het oude jaar. De 13 Heilige Nachten waarin we in het nieuwe jaar schouwen beginnen op 21 december.\n\nWil je meedoen\, meld je dan voor 16 december aan via de gratis WhatsApp-groep  \n\nVoel je vrij om dit bericht door te sturen naar mensen die het ook leuk vinden om mee te doen.
URL:https://hetzwanennest.com/event/13-heilige-nachten-reis-mee-het-oude-jaar-uit-en-het-nieuwe-jaar-in/
CATEGORIES:13 Heilige Nachten,Bewust Leven,Online Rituelen,Sjamanisme
ATTACH;FMTTYPE=image/jpeg:https://hetzwanennest.com/wp-content/uploads/2024/11/BYM_9050_web.jpg
END:VEVENT
END:VCALENDAR